BEGIN:VCALENDAR
VERSION:2.0
PRODID:-//hacksw/handcal//NONSGML v1.0//EN
BEGIN:VEVENT
UID:2d4115fe9d12e00d89c1735c5b3bae5b
DTSTAMP:20260420T193150Z

DTSTART:20230909T110000
DTEND:20230909T150000
SUMMARY:The Hillhurst Sunnyside Farmers' Market - 09.09.2023
DESCRIPTION:Come on down to The Hillhurst Sunnyside Farmers' Market in Calgary! \nLocated at 1320 5 Ave NW every Saturday from 11am-3pm\n\nProudly showcasing local artists, growers, bakers and more in the Central Northwest of Calgary. \nSome vendors are staples and reliably present each week, and some are pop ins so you're always in for a nice treat! The market is always growing and adding.\nFurthermore this is Calgary's longest running market of it's kind.\n\nMaybe you'll get lucky and catch some live entertainment!

X-ALT-DESC;FMTTYPE=text/html:<!DOCTYPE HTML PUBLIC "-//W3C//DTD HTML 3.2//EN">\n<HTML>\n<HEAD>\n<META NAME="Generator" CONTENT="MS Exchange Server version 08.00.0681.000">\n<TITLE></TITLE>\n</HEAD>\n<BODY>\n<!-- Converted from text/rtf format -->\n\nCome on down to The Hillhurst Sunnyside Farmers' Market in Calgary! <br />Located at 1320 5 Ave NW every Saturday from 11am-3pm<br /><br />Proudly showcasing local artists, growers, bakers and more in the Central Northwest of Calgary. <br />Some vendors are staples and reliably present each week, and some are pop ins so you're always in for a nice treat! The market is always growing and adding.<br />Furthermore this is Calgary's longest running market of it's kind.<br /><br />Maybe you'll get lucky and catch some live entertainment!\n\n</BODY>\n</HTML>

LOCATION:Hillhurst Sunnyside Park, 1320 5 Ave NW, Calgary, AB T2N 0S2, Canada
END:VEVENT

END:VCALENDAR
