BEGIN:VCALENDAR
VERSION:2.0
PRODID:-//hacksw/handcal//NONSGML v1.0//EN
BEGIN:VEVENT
UID:78e88fc0e4ce3a3ad4ff63daf460e8de
DTSTAMP:20260422T142638Z

DTSTART:20230727T100000
DTEND:20230730T200000
SUMMARY:Calgary Folk Festival 2023, Calgary, Alberta
DESCRIPTION:Folk Music lovers plan to be at the 44th Annual Calgary Folk Festival at Prince's Island Park for 4 days of incredible entertainment.\nBeautiful summer breezes on Prince's Island make it a perfect location to host a great line-up of folk entertainers such as Aysanabee, Bahamas, Digable Planets, Fantastic Negrito, Tanya Tucker, The Weather Station, and many more still to be announced.\n\nSingle-day and full festival passes are on sale now.

X-ALT-DESC;FMTTYPE=text/html:<!DOCTYPE HTML PUBLIC "-//W3C//DTD HTML 3.2//EN">\n<HTML>\n<HEAD>\n<META NAME="Generator" CONTENT="MS Exchange Server version 08.00.0681.000">\n<TITLE></TITLE>\n</HEAD>\n<BODY>\n<!-- Converted from text/rtf format -->\n\nFolk Music lovers plan to be at the 44th Annual Calgary Folk Festival at Prince's Island Park for 4 days of incredible entertainment.<br />Beautiful summer breezes on Prince's Island make it a perfect location to host a great line-up of folk entertainers such as Aysanabee, Bahamas, Digable Planets, Fantastic Negrito, Tanya Tucker, The Weather Station, and many more still to be announced.<br /><br />Single-day and full festival passes are on sale now.\n\n</BODY>\n</HTML>

LOCATION:Prince's Island Park, 698 Eau Claire Ave SW, Calgary, AB T2P 5N4, Canada
END:VEVENT

END:VCALENDAR
