BEGIN:VCALENDAR
VERSION:2.0
PRODID:-//hacksw/handcal//NONSGML v1.0//EN
BEGIN:VEVENT
UID:e0f4609f2484da7d2069083342773355
DTSTAMP:20260425T211903Z

DTSTART:20230303T120000
DTEND:20230326T180000
SUMMARY:IMAX Victoria Film Festival Victoria BC
DESCRIPTION:The IMAX Victoria Film Festival returns for 2023 and will showcase three feature length documentaries and a brand-new IMAX film. Returning will also be four fan favourite documentaries, the films are as follows:\n\n* Animal Kingdom (2D & 3D) - returning fan favourite\n* Superpower Dogs (2D & 3D) - returning fan favourite\n* Hidden Universe (2D & 3D) - returning fan favourite\n* Oceans: Our Blue Planet (2D & 3D) - returning fan favourite\n* The Scattering of Man - feature length - new\n* Haida Modern - feature length - new\n* Unarchived - feature length - new\n* Beavers, the biggest dam move you ever saw - brand new IMAX film\n\nEach of these documentary films will transport you to wondrous places with breathtaking cinematography that can only be experienced on the Giant Screen. They are here for three weeks only!\n\nTICKETS AND PRICING OPTIONS:\nThe Film Festival Pass is $49. Purchase and redeem this pass at the box office for up to a total of eight IMAX Victoria Film festival tickets. (Does not include Hollywood Features). Please note the Film Festival Pass is non-refundable and cannot be upgraded to an annual pass.\n\nThe BEST VALUE is the IMAX Victoria Annual Pass $59. As an annual passholder, you can watch all eight film festival documentaries at no additional cost, and you'll benefit from amazing perks including unlimited IMAX films and discounted Hollywood features for 12 months, invitations to exclusive passholder-only events, and reciprocal discounts at local attractions.\n\nSingle tickets are also available at the regular rate. ($11.95 Adult, $10.25 Senior and Youth, $10.75 Student, $5.40 Child age 5 and under. Additional $1 surcharge applied for 3D films.)\n\nThe annual pass and single tickets are also available to purchase from the website below. The website includes a print friendly schedule of when each of the films will be showing.

X-ALT-DESC;FMTTYPE=text/html:<!DOCTYPE HTML PUBLIC "-//W3C//DTD HTML 3.2//EN">\n<HTML>\n<HEAD>\n<META NAME="Generator" CONTENT="MS Exchange Server version 08.00.0681.000">\n<TITLE></TITLE>\n</HEAD>\n<BODY>\n<!-- Converted from text/rtf format -->\n\nThe IMAX Victoria Film Festival returns for 2023 and will showcase three feature length documentaries and a brand-new IMAX film. Returning will also be four fan favourite documentaries, the films are as follows:<br /><br />* Animal Kingdom (2D & 3D) - returning fan favourite<br />* Superpower Dogs (2D & 3D) - returning fan favourite<br />* Hidden Universe (2D & 3D) - returning fan favourite<br />* Oceans: Our Blue Planet (2D & 3D) - returning fan favourite<br />* The Scattering of Man - feature length - new<br />* Haida Modern - feature length - new<br />* Unarchived - feature length - new<br />* Beavers, the biggest dam move you ever saw - brand new IMAX film<br /><br />Each of these documentary films will transport you to wondrous places with breathtaking cinematography that can only be experienced on the Giant Screen. They are here for three weeks only!<br /><br />TICKETS AND PRICING OPTIONS:<br />The Film Festival Pass is $49. Purchase and redeem this pass at the box office for up to a total of eight IMAX Victoria Film festival tickets. (Does not include Hollywood Features). Please note the Film Festival Pass is non-refundable and cannot be upgraded to an annual pass.<br /><br />The BEST VALUE is the IMAX Victoria Annual Pass $59. As an annual passholder, you can watch all eight film festival documentaries at no additional cost, and you'll benefit from amazing perks including unlimited IMAX films and discounted Hollywood features for 12 months, invitations to exclusive passholder-only events, and reciprocal discounts at local attractions.<br /><br />Single tickets are also available at the regular rate. ($11.95 Adult, $10.25 Senior and Youth, $10.75 Student, $5.40 Child age 5 and under. Additional $1 surcharge applied for 3D films.)<br /><br />The annual pass and single tickets are also available to purchase from the website below. The website includes a print friendly schedule of when each of the films will be showing.\n\n</BODY>\n</HTML>

LOCATION:Belleville St., Victoria, BC, Canada
END:VEVENT

END:VCALENDAR
