BEGIN:VCALENDAR
VERSION:2.0
PRODID:-//hacksw/handcal//NONSGML v1.0//EN
BEGIN:VEVENT
UID:6fc9d44a07f2ae230d2e0c5781fc6950
DTSTAMP:20260420T053402Z

DTSTART:20230310T190000
DTEND:20230312T233000
SUMMARY:Toronto Ukrainian Film Festival
DESCRIPTION:The Toronto Ukrainian Film Festival will feature eight screenings of Contemporary Ukrainian films on March 10-12, 2023 at The Royal Cinema in Toronto, Ontario. \n\nInitiated and organized by Roman Lysiak, the Toronto Ukrainian Film Festival TUFF showcases the talent of contemporary Ukrainian artists and filmmakers. It will feature new and upcoming Ukrainian films which are being noted on the world stage. These works are being screened, nominated, and are winning prestigious awards at festivals such as Cannes, Sundance, and TIFF. This is an opportunity to celebrate a facet of contemporary Ukrainian culture by telling stories of bravery, love and compassion, through the media of film.

X-ALT-DESC;FMTTYPE=text/html:<!DOCTYPE HTML PUBLIC "-//W3C//DTD HTML 3.2//EN">\n<HTML>\n<HEAD>\n<META NAME="Generator" CONTENT="MS Exchange Server version 08.00.0681.000">\n<TITLE></TITLE>\n</HEAD>\n<BODY>\n<!-- Converted from text/rtf format -->\n\nThe Toronto Ukrainian Film Festival will feature eight screenings of Contemporary Ukrainian films on March 10-12, 2023 at The Royal Cinema in Toronto, Ontario. <br /><br />Initiated and organized by Roman Lysiak, the Toronto Ukrainian Film Festival TUFF showcases the talent of contemporary Ukrainian artists and filmmakers. It will feature new and upcoming Ukrainian films which are being noted on the world stage. These works are being screened, nominated, and are winning prestigious awards at festivals such as Cannes, Sundance, and TIFF. This is an opportunity to celebrate a facet of contemporary Ukrainian culture by telling stories of bravery, love and compassion, through the media of film.\n\n</BODY>\n</HTML>

LOCATION:608 College St, Toronto, ON M6G 1B4, Canada
END:VEVENT

END:VCALENDAR
