BEGIN:VCALENDAR
VERSION:2.0
PRODID:-//hacksw/handcal//NONSGML v1.0//EN
BEGIN:VEVENT
UID:e10572dfeec6d8a193140a84765f4387
DTSTAMP:20260424T232840Z

DTSTART:20230219T180000
DTEND:20230219T200000
SUMMARY:Lantern Ski in Panorama British Columbia
DESCRIPTION:Join us for an evening cross-country ski through the beautiful forest and follow the lantern lit trail to the Pentagon Hut at the Nordic Centre in Panorama, British Columbia, Canada.\n\nThe Placer Trail will be lined with lanterns for visitors to enjoy a beautiful evening Nordic Ski all the way to the Pentagon Hut where you will be greeted by a toasty outdoor fire. \n\nBring a head lamp and a snack. All levels are welcome.\n\nA trail ticket or pass is required to participate. Nordic ski rentals are available.\n\n

X-ALT-DESC;FMTTYPE=text/html:<!DOCTYPE HTML PUBLIC "-//W3C//DTD HTML 3.2//EN">\n<HTML>\n<HEAD>\n<META NAME="Generator" CONTENT="MS Exchange Server version 08.00.0681.000">\n<TITLE></TITLE>\n</HEAD>\n<BODY>\n<!-- Converted from text/rtf format -->\n\nJoin us for an evening cross-country ski through the beautiful forest and follow the lantern lit trail to the Pentagon Hut at the Nordic Centre in Panorama, British Columbia, Canada.<br /><br />The Placer Trail will be lined with lanterns for visitors to enjoy a beautiful evening Nordic Ski all the way to the Pentagon Hut where you will be greeted by a toasty outdoor fire. <br /><br />Bring a head lamp and a snack. All levels are welcome.<br /><br />A trail ticket or pass is required to participate. Nordic ski rentals are available.<br /><br />\n\n</BODY>\n</HTML>

LOCATION:1860 Greywolf Dr, Panorama, BC V0A 1T0, Canada
END:VEVENT

END:VCALENDAR
