BEGIN:VCALENDAR
VERSION:2.0
PRODID:-//hacksw/handcal//NONSGML v1.0//EN
BEGIN:VEVENT
UID:c77c67c8047e3f768f7a861d0d09bec5
DTSTAMP:20260423T222037Z

DTSTART:20230122T170000
DTEND:20230122T220000
SUMMARY:Lights On Stratford - Winter Festival of Lights in Stratford, Ontario - 22.01.2023
DESCRIPTION:Lights On Stratford, a Winter Festival of Lights in Stratford, Ontario. \nThis year's theme is Rekindle and the event is Free for all to enjoy.\n\nStroll through Historic Downtown Stratford to view the 6 main exhibits and 16 Shareable Moments/Displays hosted by Destination Stratford. Have fun interacting with the light installations.\n\nA free shuttle bus between the exhibits has been added this year.\n\nTo keep you warm there is free hot chocolate at Market Square and a Warming Centre at the Stratford Tourism Office.\n\nCheck out the interactive map for all the locations and more info:\nhttps://viewer.mapme.com/23536b57-cc0b-4f2d-bd5b-bba499593a53\n\n\n#adventureswithdianaandjeff #destinationstratford #stratford #lightsonfestival #freeevent #lightsfestival

X-ALT-DESC;FMTTYPE=text/html:<!DOCTYPE HTML PUBLIC "-//W3C//DTD HTML 3.2//EN">\n<HTML>\n<HEAD>\n<META NAME="Generator" CONTENT="MS Exchange Server version 08.00.0681.000">\n<TITLE></TITLE>\n</HEAD>\n<BODY>\n<!-- Converted from text/rtf format -->\n\nLights On Stratford, a Winter Festival of Lights in Stratford, Ontario. <br />This year's theme is Rekindle and the event is Free for all to enjoy.<br /><br />Stroll through Historic Downtown Stratford to view the 6 main exhibits and 16 Shareable Moments/Displays hosted by Destination Stratford. Have fun interacting with the light installations.<br /><br />A free shuttle bus between the exhibits has been added this year.<br /><br />To keep you warm there is free hot chocolate at Market Square and a Warming Centre at the Stratford Tourism Office.<br /><br />Check out the interactive map for all the locations and more info:<br />https://viewer.mapme.com/23536b57-cc0b-4f2d-bd5b-bba499593a53<br /><br /><br />#adventureswithdianaandjeff #destinationstratford #stratford #lightsonfestival #freeevent #lightsfestival\n\n</BODY>\n</HTML>

LOCATION:Stratford Market Square, Stratford, ON N5A, Canada
END:VEVENT

END:VCALENDAR
