BEGIN:VCALENDAR
VERSION:2.0
PRODID:-//hacksw/handcal//NONSGML v1.0//EN
BEGIN:VEVENT
UID:506c2ea124cd1bdd7e85b4bf5223f24a
DTSTAMP:20260424T130517Z

DTSTART:20230203T160000
DTEND:20230205T160000
SUMMARY:VWC Magic School Bus 2023
DESCRIPTION:Local Scientists and view new live creatures, Space and time travel, and other science mysteries! This event is included with regular science centre admission!

X-ALT-DESC;FMTTYPE=text/html:<!DOCTYPE HTML PUBLIC "-//W3C//DTD HTML 3.2//EN">\n<HTML>\n<HEAD>\n<META NAME="Generator" CONTENT="MS Exchange Server version 08.00.0681.000">\n<TITLE></TITLE>\n</HEAD>\n<BODY>\n<!-- Converted from text/rtf format -->\n\nLocal Scientists and view new live creatures, Space and time travel, and other science mysteries! This event is included with regular science centre admission!\n\n</BODY>\n</HTML>

LOCATION:2704 BC-6, Vernon, BC V1T 5G5, Canada
END:VEVENT

END:VCALENDAR
