BEGIN:VCALENDAR
VERSION:2.0
PRODID:-//hacksw/handcal//NONSGML v1.0//EN
BEGIN:VEVENT
UID:59ab1133713490b52d57ab57c3cd6701
DTSTAMP:20260425T114511Z

DTSTART:20230217T000000
DTEND:20230220T235959
SUMMARY:Great Backyard Bird Count
DESCRIPTION:For four days each February nature lovers, bird watchers, and citizen scientists from all over the world come together to watch, count, and report as many birds as they can find.  The Great Backyard Bird Count (GBBC)  is a great way to stay connected with nature during the cold winter months, and it makes a huge contribution to wild bird conservation in Canada.\n\nThe project was launched in 1998 by the Cornell Lab of Ornithology and the National Audubon Society, and it became the first Citizen Science project to collect data on wild birds and display results in near real time.  In 2009 the project expanded to include Canada, and in 2013 it went global, to help scientists monitor global populations of wild birds.\n\nParticipating is free, easy, and fun and can be done anywhere you find birds.  Watch birds for 15 minutes or more between February 17-20, 2023, identify all the birds you see or hear, and report your sightings using the free Merlin Bird ID App, eBird, or your computer. \n \nFor more information on how to participate please visit:\nhttps://www.birdcount.org/participate/

X-ALT-DESC;FMTTYPE=text/html:<!DOCTYPE HTML PUBLIC "-//W3C//DTD HTML 3.2//EN">\n<HTML>\n<HEAD>\n<META NAME="Generator" CONTENT="MS Exchange Server version 08.00.0681.000">\n<TITLE></TITLE>\n</HEAD>\n<BODY>\n<!-- Converted from text/rtf format -->\n\nFor four days each February nature lovers, bird watchers, and citizen scientists from all over the world come together to watch, count, and report as many birds as they can find.  The Great Backyard Bird Count (GBBC)  is a great way to stay connected with nature during the cold winter months, and it makes a huge contribution to wild bird conservation in Canada.<br /><br />The project was launched in 1998 by the Cornell Lab of Ornithology and the National Audubon Society, and it became the first Citizen Science project to collect data on wild birds and display results in near real time.  In 2009 the project expanded to include Canada, and in 2013 it went global, to help scientists monitor global populations of wild birds.<br /><br />Participating is free, easy, and fun and can be done anywhere you find birds.  Watch birds for 15 minutes or more between February 17-20, 2023, identify all the birds you see or hear, and report your sightings using the free Merlin Bird ID App, eBird, or your computer. <br /> <br />For more information on how to participate please visit:<br />https://www.birdcount.org/participate/\n\n</BODY>\n</HTML>

LOCATION:Canada
END:VEVENT

END:VCALENDAR
