BEGIN:VCALENDAR
VERSION:2.0
PRODID:-//hacksw/handcal//NONSGML v1.0//EN
BEGIN:VEVENT
UID:b28d10a5f3bc0d67c5b5e40b30d516af
DTSTAMP:20260420T041738Z

DTSTART:20221207T180000
DTEND:20221226T220000
SUMMARY:MUN Botanical Garden Merry & Bright Light Festival, St. John, Newfoundland - 07.12.2022
DESCRIPTION:Visit the MUN Botanical Gardens for a night of Christmas wonder at the Merry and Bright Holiday Light Festival. \nBring the whole family and walk through the gardens, lit by thousands of twinkling lights, and listen to beautiful holiday music while enjoying hot chocolate and snacks.\nYou can warm up beside a lovely bonfire, and visit Garden Gifts for those last-minute holiday needs. 

X-ALT-DESC;FMTTYPE=text/html:<!DOCTYPE HTML PUBLIC "-//W3C//DTD HTML 3.2//EN">\n<HTML>\n<HEAD>\n<META NAME="Generator" CONTENT="MS Exchange Server version 08.00.0681.000">\n<TITLE></TITLE>\n</HEAD>\n<BODY>\n<!-- Converted from text/rtf format -->\n\nVisit the MUN Botanical Gardens for a night of Christmas wonder at the Merry and Bright Holiday Light Festival. <br />Bring the whole family and walk through the gardens, lit by thousands of twinkling lights, and listen to beautiful holiday music while enjoying hot chocolate and snacks.<br />You can warm up beside a lovely bonfire, and visit Garden Gifts for those last-minute holiday needs. \n\n</BODY>\n</HTML>

LOCATION:306 Mt Scio Rd, St. John's, NL A1B 4L6, Canada
END:VEVENT

END:VCALENDAR
