BEGIN:VCALENDAR
VERSION:2.0
PRODID:-//hacksw/handcal//NONSGML v1.0//EN
BEGIN:VEVENT
UID:a5fe09c793308976fa20bea1af436aa6
DTSTAMP:20260423T192927Z

DTSTART:20221211T090000
DTEND:20221211T143000
SUMMARY:Children's Health Foundation of Vancouver Island Pancakes & Pajamas
DESCRIPTION:Fundraiser for Children's Health Foundation of Vancouver Island and Hotel Grand Pacific presents: Pancakes & Pajamas\n\nCome and enjoy a lavish brunch buffet at the Hotel Grand Pacific in Victoria BC and this time you do not need a jacket, tie or shoes, in fact, come in your pajamas!\n\nThis cozy entertaining fundraiser for the Children's Health Foundation of Vancouver Island, features fun for the whole family with lots of activities for children. \n\nTICKETS:\n - free for children under 2\n - $25 per child (2-12 years old)\n - $75 per adult \n\nTickets are available from the website and there is also a special room rate at the Hotel Grand Pacific for the night of December 10 for families that purchase tickets to Pancakes and Pajamas. All proceeds from the event support the Children's Health Foundation of Vancouver Island.\n\nSettle in put your slippers up and get comfortable for there are two buffet sittings, morning: 9:00 AM to 11:00 AM and afternoon 12:30 PM to 2:30 PM.

X-ALT-DESC;FMTTYPE=text/html:<!DOCTYPE HTML PUBLIC "-//W3C//DTD HTML 3.2//EN">\n<HTML>\n<HEAD>\n<META NAME="Generator" CONTENT="MS Exchange Server version 08.00.0681.000">\n<TITLE></TITLE>\n</HEAD>\n<BODY>\n<!-- Converted from text/rtf format -->\n\nFundraiser for Children's Health Foundation of Vancouver Island and Hotel Grand Pacific presents: Pancakes & Pajamas<br /><br />Come and enjoy a lavish brunch buffet at the Hotel Grand Pacific in Victoria BC and this time you do not need a jacket, tie or shoes, in fact, come in your pajamas!<br /><br />This cozy entertaining fundraiser for the Children's Health Foundation of Vancouver Island, features fun for the whole family with lots of activities for children. <br /><br />TICKETS:<br /> - free for children under 2<br /> - $25 per child (2-12 years old)<br /> - $75 per adult <br /><br />Tickets are available from the website and there is also a special room rate at the Hotel Grand Pacific for the night of December 10 for families that purchase tickets to Pancakes and Pajamas. All proceeds from the event support the Children's Health Foundation of Vancouver Island.<br /><br />Settle in put your slippers up and get comfortable for there are two buffet sittings, morning: 9:00 AM to 11:00 AM and afternoon 12:30 PM to 2:30 PM.\n\n</BODY>\n</HTML>

LOCATION:463 Belleville St, Victoria, BC V8V 1X3, Canada
END:VEVENT

END:VCALENDAR
