BEGIN:VCALENDAR
VERSION:2.0
PRODID:-//hacksw/handcal//NONSGML v1.0//EN
BEGIN:VEVENT
UID:34e56cc2a01a0172b846513f7fc86781
DTSTAMP:20260420T181229Z

DTSTART:20221217T090000
DTEND:20221225T150000
SUMMARY:Regina Farmers Market Holiday Edition, Regina, Saskatchewan - 17.12.2022
DESCRIPTION:The Regina, Saskatchewan Farmers Market is hosting a Christmas Holiday Edition for your shopping enjoyment.\nEveryone loves Farmer's Markets and the Holiday Edition will have loads of goodies for your holiday entertaining. \nHandmade crafts, vendors galore, and baked goods to satisfy your sweet tooth, or Santa's!\nExtended hours, additional market days, and tons of free parking

X-ALT-DESC;FMTTYPE=text/html:<!DOCTYPE HTML PUBLIC "-//W3C//DTD HTML 3.2//EN">\n<HTML>\n<HEAD>\n<META NAME="Generator" CONTENT="MS Exchange Server version 08.00.0681.000">\n<TITLE></TITLE>\n</HEAD>\n<BODY>\n<!-- Converted from text/rtf format -->\n\nThe Regina, Saskatchewan Farmers Market is hosting a Christmas Holiday Edition for your shopping enjoyment.<br />Everyone loves Farmer's Markets and the Holiday Edition will have loads of goodies for your holiday entertaining. <br />Handmade crafts, vendors galore, and baked goods to satisfy your sweet tooth, or Santa's!<br />Extended hours, additional market days, and tons of free parking\n\n</BODY>\n</HTML>

LOCATION:1700 Elphinstone St, Regina, SK S4T 1K1, Canada
END:VEVENT

END:VCALENDAR
