BEGIN:VCALENDAR
VERSION:2.0
PRODID:-//hacksw/handcal//NONSGML v1.0//EN
BEGIN:VEVENT
UID:f686167691be54405141fb437e242c4c
DTSTAMP:20260424T214502Z

DTSTART:20221228T180000
DTEND:20221228T180000
SUMMARY:Winterlit
DESCRIPTION:The Winterlit Experience\n\nThe wooded trails at Mountsberg are always beautiful in the wintertime, but now they are more magical than ever! \n\nThe Winterlit Trail features a unique and stunning lighting experience with inspirational art installations along the trail. The Illuminated Sugarbush Trail has soft overhead lighting to allow for a beautiful evening stroll through the sugarbush. \n\nThis experience will include soundtracks from local musicians while you enjoy the beauty of Mountsberg in winter.  

X-ALT-DESC;FMTTYPE=text/html:<!DOCTYPE HTML PUBLIC "-//W3C//DTD HTML 3.2//EN">\n<HTML>\n<HEAD>\n<META NAME="Generator" CONTENT="MS Exchange Server version 08.00.0681.000">\n<TITLE></TITLE>\n</HEAD>\n<BODY>\n<!-- Converted from text/rtf format -->\n\nThe Winterlit Experience<br /><br />The wooded trails at Mountsberg are always beautiful in the wintertime, but now they are more magical than ever! <br /><br />The Winterlit Trail features a unique and stunning lighting experience with inspirational art installations along the trail. The Illuminated Sugarbush Trail has soft overhead lighting to allow for a beautiful evening stroll through the sugarbush. <br /><br />This experience will include soundtracks from local musicians while you enjoy the beauty of Mountsberg in winter.  \n\n</BODY>\n</HTML>

LOCATION:
END:VEVENT

END:VCALENDAR
