BEGIN:VCALENDAR
VERSION:2.0
PRODID:-//hacksw/handcal//NONSGML v1.0//EN
BEGIN:VEVENT
UID:104805e8716b3b6e9e35b9a6d0caf256
DTSTAMP:20260419T162330Z

DTSTART:20221231T180000
DTEND:20221231T210000
SUMMARY:Airdrie Festival of Lights 2022 - 31.12.2022
DESCRIPTION:Get your glow on at the Airdrie Festival of lights!\n\nSituated in the heart of Nose Creek Park in Airdrie, AB, we are Western Canada’s largest, free, outdoor walk-through Christmas Light Display.\n\nIn 1996, the Airdrie Festival of Lights began with a group of local residents committed to putting Airdrie on the map. That group grew over the years to become the Airdrie Festival of Lights Society (AFOLS), which has continued to operate the Festival.\n\nCome out and  make it a new tradition!\n\nDecember 1 - December 31 from 6-9pm\n

X-ALT-DESC;FMTTYPE=text/html:<!DOCTYPE HTML PUBLIC "-//W3C//DTD HTML 3.2//EN">\n<HTML>\n<HEAD>\n<META NAME="Generator" CONTENT="MS Exchange Server version 08.00.0681.000">\n<TITLE></TITLE>\n</HEAD>\n<BODY>\n<!-- Converted from text/rtf format -->\n\nGet your glow on at the Airdrie Festival of lights!<br /><br />Situated in the heart of Nose Creek Park in Airdrie, AB, we are Western Canada’s largest, free, outdoor walk-through Christmas Light Display.<br /><br />In 1996, the Airdrie Festival of Lights began with a group of local residents committed to putting Airdrie on the map. That group grew over the years to become the Airdrie Festival of Lights Society (AFOLS), which has continued to operate the Festival.<br /><br />Come out and  make it a new tradition!<br /><br />December 1 - December 31 from 6-9pm<br />\n\n</BODY>\n</HTML>

LOCATION:Nose Creek Regional Park, Unnamed Road, Airdrie, AB T4B 1A4, Canada
END:VEVENT

END:VCALENDAR
