BEGIN:VCALENDAR
VERSION:2.0
PRODID:-//hacksw/handcal//NONSGML v1.0//EN
BEGIN:VEVENT
UID:ff69e76a9edae95aca58d50522a50b00
DTSTAMP:20260419T230407Z

DTSTART:20221021T190000
DTEND:20221021T214500
SUMMARY:Dr Giggles House of Pain 2022 - 21.10.2022
DESCRIPTION:Dr. Giggles House of Pain is upping the ante this year with Theater of Pain Volume 2, the scariest haunt you will ever experience. The Theater of Pain is a fully immersive, private haunted house experience which brings you right into your favourite horror movies. We know that the standard walk-through haunted houses with cheap jump scares aren’t enough to leave you sufficiently horrified, so this year we are creating another theatrical, immersive, immaculately detailed horror masterpiece for you to experience.\n\nAre you ready?!\n\nSuggested for ages 13+\nTickets are $25/victim\n\nThursday October 6, 2022 to Sunday October 30, 2022\n\nThursdays, Fridays and Saturdays\nStarting October 6th\nAnd also the only Sunday- October 30\n7:00-9:45 pm\n\n15 minute time slots with a maximum of 6 victims per slot\n

X-ALT-DESC;FMTTYPE=text/html:<!DOCTYPE HTML PUBLIC "-//W3C//DTD HTML 3.2//EN">\n<HTML>\n<HEAD>\n<META NAME="Generator" CONTENT="MS Exchange Server version 08.00.0681.000">\n<TITLE></TITLE>\n</HEAD>\n<BODY>\n<!-- Converted from text/rtf format -->\n\nDr. Giggles House of Pain is upping the ante this year with Theater of Pain Volume 2, the scariest haunt you will ever experience. The Theater of Pain is a fully immersive, private haunted house experience which brings you right into your favourite horror movies. We know that the standard walk-through haunted houses with cheap jump scares aren’t enough to leave you sufficiently horrified, so this year we are creating another theatrical, immersive, immaculately detailed horror masterpiece for you to experience.<br /><br />Are you ready?!<br /><br />Suggested for ages 13+<br />Tickets are $25/victim<br /><br />Thursday October 6, 2022 to Sunday October 30, 2022<br /><br />Thursdays, Fridays and Saturdays<br />Starting October 6th<br />And also the only Sunday- October 30<br />7:00-9:45 pm<br /><br />15 minute time slots with a maximum of 6 victims per slot<br />\n\n</BODY>\n</HTML>

LOCATION:234 Westchester Blvd, Chestermere, AB T1X 1S4, Canada
END:VEVENT

END:VCALENDAR
