BEGIN:VCALENDAR
VERSION:2.0
PRODID:-//hacksw/handcal//NONSGML v1.0//EN
BEGIN:VEVENT
UID:2c3572100b0a63d8a4525cb18ffd6e71
DTSTAMP:20260425T172759Z

DTSTART:20220924T130000
DTEND:20220925T220000
SUMMARY:Geary Art Crawl in Toronto, ON
DESCRIPTION:A two day, rain or shine celebration of art and culture on Geary Avenue from Ossington to west of Dufferin.\n\nOn September 24 and 25, 2022, watch the neighbourhood come alive with music, visual art installations, pop-ups, food and more in a creative emergence from the pandemic that celebrates the arts while putting local businesses at the forefront. The first Geary Art Crawl was produced by Uma Nota Culture in 2021 with partners Art Spin, The Music Gallery, All Ours, Promise and Lula Music and Arts.\n\n1:00 PM - 1:00 AM  Saturday, September 24  \n\n1:00 PM- 10:00 PM  Sunday, September 25  

X-ALT-DESC;FMTTYPE=text/html:<!DOCTYPE HTML PUBLIC "-//W3C//DTD HTML 3.2//EN">\n<HTML>\n<HEAD>\n<META NAME="Generator" CONTENT="MS Exchange Server version 08.00.0681.000">\n<TITLE></TITLE>\n</HEAD>\n<BODY>\n<!-- Converted from text/rtf format -->\n\nA two day, rain or shine celebration of art and culture on Geary Avenue from Ossington to west of Dufferin.<br /><br />On September 24 and 25, 2022, watch the neighbourhood come alive with music, visual art installations, pop-ups, food and more in a creative emergence from the pandemic that celebrates the arts while putting local businesses at the forefront. The first Geary Art Crawl was produced by Uma Nota Culture in 2021 with partners Art Spin, The Music Gallery, All Ours, Promise and Lula Music and Arts.<br /><br />1:00 PM - 1:00 AM  Saturday, September 24  <br /><br />1:00 PM- 10:00 PM  Sunday, September 25  \n\n</BODY>\n</HTML>

LOCATION:Ossington Ave & Geary Ave, Toronto, ON M6G 4B2, Canada
END:VEVENT

END:VCALENDAR
