BEGIN:VCALENDAR
VERSION:2.0
PRODID:-//hacksw/handcal//NONSGML v1.0//EN
BEGIN:VEVENT
UID:1193fc23a1a9414fb1589686ad5641ee
DTSTAMP:20260423T053853Z

DTSTART:20220924T160000
DTEND:20220926T180000
SUMMARY:Tweed Harvest Festival, Tweed, Ontario - 24.09.2022
DESCRIPTION:Celebrate Fall at the Tweed Harvest Festival from September 23rd to 25th.\nGreat family fun for 3 days at the Tweed Fairgrounds.\nThe Demolition Derby is on Saturday at 6 pm.\nTruck & Tractor Pulls, is on Sunday at 11 am.\nPumpkin events, Car Show and so much more!

X-ALT-DESC;FMTTYPE=text/html:<!DOCTYPE HTML PUBLIC "-//W3C//DTD HTML 3.2//EN">\n<HTML>\n<HEAD>\n<META NAME="Generator" CONTENT="MS Exchange Server version 08.00.0681.000">\n<TITLE></TITLE>\n</HEAD>\n<BODY>\n<!-- Converted from text/rtf format -->\n\nCelebrate Fall at the Tweed Harvest Festival from September 23rd to 25th.<br />Great family fun for 3 days at the Tweed Fairgrounds.<br />The Demolition Derby is on Saturday at 6 pm.<br />Truck & Tractor Pulls, is on Sunday at 11 am.<br />Pumpkin events, Car Show and so much more!\n\n</BODY>\n</HTML>

LOCATION:297 St Joseph St, Tweed, ON K0K 3J0, Canada
END:VEVENT

END:VCALENDAR
