BEGIN:VCALENDAR
VERSION:2.0
PRODID:-//hacksw/handcal//NONSGML v1.0//EN
BEGIN:VEVENT
UID:e29e66cb0e166faa19b16e697e05b3e8
DTSTAMP:20260426T002541Z

DTSTART:20221009T110000
DTEND:20221013T180000
SUMMARY:Kedgwick Fall Festival 2022, Kedgwick, New Brunswick - 09.10.2022
DESCRIPTION:The Kedgwick Fall Festival is 5 days of great fun for the whole family!\nSee the Parade, the Rallies, and Sports Events, and Dance to the Live Music.\nBe sure to keep an eye out for 'Wick the Partridge' the famous friendly mascot and his warm welcome for all.\n\n

X-ALT-DESC;FMTTYPE=text/html:<!DOCTYPE HTML PUBLIC "-//W3C//DTD HTML 3.2//EN">\n<HTML>\n<HEAD>\n<META NAME="Generator" CONTENT="MS Exchange Server version 08.00.0681.000">\n<TITLE></TITLE>\n</HEAD>\n<BODY>\n<!-- Converted from text/rtf format -->\n\nThe Kedgwick Fall Festival is 5 days of great fun for the whole family!<br />See the Parade, the Rallies, and Sports Events, and Dance to the Live Music.<br />Be sure to keep an eye out for 'Wick the Partridge' the famous friendly mascot and his warm welcome for all.<br /><br />\n\n</BODY>\n</HTML>

LOCATION:20 Rue St Jean Baptiste, Kedgwick, NB E8B 1M1, Canada
END:VEVENT

END:VCALENDAR
