BEGIN:VCALENDAR
VERSION:2.0
PRODID:-//hacksw/handcal//NONSGML v1.0//EN
BEGIN:VEVENT
UID:8bac95419be396d06de486837c993086
DTSTAMP:20260421T212500Z

DTSTART:20230301T120000
DTEND:20230301T170000
SUMMARY:Snowking's Winter Festival XXVIII 2023
DESCRIPTION:MARK YOUR CALENDARS! Snowking's Winter Festival is back March 1-26, 2023 in Yellowknife, Northwest Territories. Snowking's 28th festival to be exact. \n\nIt's a winter wonderland and everything's made of ice!\n\nWe’ll be back with a Great Hall for live events on weekends and selected weeknights. Enjoy the amazing creations of ice sculptures, a huge ice slide also known as Dead Man's Slide, an outdoor ice playground, snow carving competitions, tons of draws and contests and so much more!\n\nDress warm and come prepared to have an awesome day on the ice. 

X-ALT-DESC;FMTTYPE=text/html:<!DOCTYPE HTML PUBLIC "-//W3C//DTD HTML 3.2//EN">\n<HTML>\n<HEAD>\n<META NAME="Generator" CONTENT="MS Exchange Server version 08.00.0681.000">\n<TITLE></TITLE>\n</HEAD>\n<BODY>\n<!-- Converted from text/rtf format -->\n\nMARK YOUR CALENDARS! Snowking's Winter Festival is back March 1-26, 2023 in Yellowknife, Northwest Territories. Snowking's 28th festival to be exact. <br /><br />It's a winter wonderland and everything's made of ice!<br /><br />We’ll be back with a Great Hall for live events on weekends and selected weeknights. Enjoy the amazing creations of ice sculptures, a huge ice slide also known as Dead Man's Slide, an outdoor ice playground, snow carving competitions, tons of draws and contests and so much more!<br /><br />Dress warm and come prepared to have an awesome day on the ice. \n\n</BODY>\n</HTML>

LOCATION:Snowking's Winter Festival, 3815 Bretzlaff Dr, Yellowknife, NT X1A 1Z4, Canada
END:VEVENT

END:VCALENDAR
