BEGIN:VCALENDAR
VERSION:2.0
PRODID:-//hacksw/handcal//NONSGML v1.0//EN
BEGIN:VEVENT
UID:768e9da604d144b2bc2800ae75bce53b
DTSTAMP:20260420T002239Z

DTSTART:20220918T140000
DTEND:20220918T200000
SUMMARY:Himalaya Mela Nepali Festival
DESCRIPTION:Over the years, this event has been able to bring thousands of people together in Toronto. The major highlights of the grand event will be the exhibition of Nepalese arts and crafts, live performance of Nepalese music and dance by famous Nepalese artists from the Greater Toronto Area and beyond, taste of Nepalese foods, and dissemination of information about the Nepalese world heritage sites.

X-ALT-DESC;FMTTYPE=text/html:<!DOCTYPE HTML PUBLIC "-//W3C//DTD HTML 3.2//EN">\n<HTML>\n<HEAD>\n<META NAME="Generator" CONTENT="MS Exchange Server version 08.00.0681.000">\n<TITLE></TITLE>\n</HEAD>\n<BODY>\n<!-- Converted from text/rtf format -->\n\nOver the years, this event has been able to bring thousands of people together in Toronto. The major highlights of the grand event will be the exhibition of Nepalese arts and crafts, live performance of Nepalese music and dance by famous Nepalese artists from the Greater Toronto Area and beyond, taste of Nepalese foods, and dissemination of information about the Nepalese world heritage sites.\n\n</BODY>\n</HTML>

LOCATION:100 Queen St W, Toronto, ON M5G 1P5, Canada
END:VEVENT

END:VCALENDAR
