BEGIN:VCALENDAR
VERSION:2.0
PRODID:-//hacksw/handcal//NONSGML v1.0//EN
BEGIN:VEVENT
UID:7ad7265a9c59d99fcae6678381218452
DTSTAMP:20260420T213157Z

DTSTART:20220916T190000
DTEND:20220918T200000
SUMMARY:Small World Music Festival in Toronto, ON
DESCRIPTION:Small World Music Festival 2022! The Beat of the Globe in the Heart of Toronto\n\nJoin us September 16th through 18th at Fort York Garrison Common, for a free, family-friendly community celebration of music, dance, craft, food and more!\n\nSome of the participating artists include International names like hypnotic French-Venezuelan singer La Chica, Argentina’s Tanghetto with their neo-tango sound, and the rousing spiritualism of Fareed Ayaz & Abu Muhammad Qawwali from Pakistan.\n\nThe festival's two stages will feature the best in genre-busting and culture-crossing sounds, celebrating Canada's ever-evolving musical landscape. From Toronto, Montreal and beyond, they’ll include Funk Lion, Moneka Arabic Jazz, Pantayo, Shauit, Joyce N’Sana, Clerel, Hawa B and many more.\n\nThere will be buskers and marching bands and we’re delighted to have a roster of partners including Fort York National Historic Site, Toronto History Museums, FabCollab, Uma Nota Culture, the 50/50 Performing Arts Collective, Tkaronto Music Festival, Wavelength Music, Art Spin, Link Music, Aga Khan Museum and many more.

X-ALT-DESC;FMTTYPE=text/html:<!DOCTYPE HTML PUBLIC "-//W3C//DTD HTML 3.2//EN">\n<HTML>\n<HEAD>\n<META NAME="Generator" CONTENT="MS Exchange Server version 08.00.0681.000">\n<TITLE></TITLE>\n</HEAD>\n<BODY>\n<!-- Converted from text/rtf format -->\n\nSmall World Music Festival 2022! The Beat of the Globe in the Heart of Toronto<br /><br />Join us September 16th through 18th at Fort York Garrison Common, for a free, family-friendly community celebration of music, dance, craft, food and more!<br /><br />Some of the participating artists include International names like hypnotic French-Venezuelan singer La Chica, Argentina’s Tanghetto with their neo-tango sound, and the rousing spiritualism of Fareed Ayaz & Abu Muhammad Qawwali from Pakistan.<br /><br />The festival's two stages will feature the best in genre-busting and culture-crossing sounds, celebrating Canada's ever-evolving musical landscape. From Toronto, Montreal and beyond, they’ll include Funk Lion, Moneka Arabic Jazz, Pantayo, Shauit, Joyce N’Sana, Clerel, Hawa B and many more.<br /><br />There will be buskers and marching bands and we’re delighted to have a roster of partners including Fort York National Historic Site, Toronto History Museums, FabCollab, Uma Nota Culture, the 50/50 Performing Arts Collective, Tkaronto Music Festival, Wavelength Music, Art Spin, Link Music, Aga Khan Museum and many more.\n\n</BODY>\n</HTML>

LOCATION:Garrison Common, 100 Garrison Rd, Toronto, ON M5V 3K9, Canada
END:VEVENT

END:VCALENDAR
