BEGIN:VCALENDAR
VERSION:2.0
PRODID:-//hacksw/handcal//NONSGML v1.0//EN
BEGIN:VEVENT
UID:1c01ae88fce6d81cb54c0fb9400f835e
DTSTAMP:20260425T215455Z

DTSTART:20221001T000000
DTEND:20221001T235959
SUMMARY:Smoky Lake Corn Maze & Great White North Pumpkin Festival 2022, Smoky Lake, Alberta
DESCRIPTION:What a great way to spend a fall day! Bring the family to The Smoky Lake Great White North Pumpkin Festival.\nSee all the giant pumpkin sculptures, and see if you can navigate the corn maze. \nOn October 1st there will be a full day of fun in Smoky Lake starting with a pancake breakfast.\nCar enthusiasts will love the show and shine, \nBrowse the farmers’ market, check out the beer gardens, and enjoy all the live entertainment.\nThe Corn Maze is open throughout the Fall.\nCorn Maze opens September 3rd, with extended hours during the Pumpkin Fair (October 1, 2022)\n$5 per person for Corn Maze, the festival is free to attend\nSee you at The Pumpkin Festival!\n

X-ALT-DESC;FMTTYPE=text/html:<!DOCTYPE HTML PUBLIC "-//W3C//DTD HTML 3.2//EN">\n<HTML>\n<HEAD>\n<META NAME="Generator" CONTENT="MS Exchange Server version 08.00.0681.000">\n<TITLE></TITLE>\n</HEAD>\n<BODY>\n<!-- Converted from text/rtf format -->\n\nWhat a great way to spend a fall day! Bring the family to The Smoky Lake Great White North Pumpkin Festival.<br />See all the giant pumpkin sculptures, and see if you can navigate the corn maze. <br />On October 1st there will be a full day of fun in Smoky Lake starting with a pancake breakfast.<br />Car enthusiasts will love the show and shine, <br />Browse the farmers’ market, check out the beer gardens, and enjoy all the live entertainment.<br />The Corn Maze is open throughout the Fall.<br />Corn Maze opens September 3rd, with extended hours during the Pumpkin Fair (October 1, 2022)<br />$5 per person for Corn Maze, the festival is free to attend<br />See you at The Pumpkin Festival!<br />\n\n</BODY>\n</HTML>

LOCATION:54 Ave, Smoky Lake, AB T0A 3C0, Canada
END:VEVENT

END:VCALENDAR
