BEGIN:VCALENDAR
VERSION:2.0
PRODID:-//hacksw/handcal//NONSGML v1.0//EN
BEGIN:VEVENT
UID:066a325cc1d09ecc131f23e08c8e6b99
DTSTAMP:20260422T091233Z

DTSTART:20220910T120000
DTEND:20220925T220000
SUMMARY:AsialiciousTO
DESCRIPTION:100+ participating venues including restaurants, bubble tea shops, hotels, cafes, bakeries, food courts in malls & grocery stores, fast food establishments and food trucks will be participating in this year's AsialiciousTO.\n\nInspired by Summerlicious and Winterlicious, AsialiciousTO is an annual celebration of Asian food culture in Toronto where food lovers can sample hundreds of specially priced food and beverages for two weeks.\n\nPatrons can explore Toronto’s Asian cuisine at participating venues with promotional deals priced at $10, $20, $30.

X-ALT-DESC;FMTTYPE=text/html:<!DOCTYPE HTML PUBLIC "-//W3C//DTD HTML 3.2//EN">\n<HTML>\n<HEAD>\n<META NAME="Generator" CONTENT="MS Exchange Server version 08.00.0681.000">\n<TITLE></TITLE>\n</HEAD>\n<BODY>\n<!-- Converted from text/rtf format -->\n\n100+ participating venues including restaurants, bubble tea shops, hotels, cafes, bakeries, food courts in malls & grocery stores, fast food establishments and food trucks will be participating in this year's AsialiciousTO.<br /><br />Inspired by Summerlicious and Winterlicious, AsialiciousTO is an annual celebration of Asian food culture in Toronto where food lovers can sample hundreds of specially priced food and beverages for two weeks.<br /><br />Patrons can explore Toronto’s Asian cuisine at participating venues with promotional deals priced at $10, $20, $30.\n\n</BODY>\n</HTML>

LOCATION:Toronto, ON, Canada
END:VEVENT

END:VCALENDAR
