BEGIN:VCALENDAR
VERSION:2.0
PRODID:-//hacksw/handcal//NONSGML v1.0//EN
BEGIN:VEVENT
UID:8aee2b32cad89d91d9c998ab89cb15c1
DTSTAMP:20260420T191122Z

DTSTART:20220831T170000
DTEND:20220831T190000
SUMMARY:Didsbury Farmers' Market 2022 - 31.08.2022
DESCRIPTION:One of the best parts of summer and fall in Alberta is the garden-fresh meals we can enjoy. A great way to get that fresh food—garden veggies, ripe fruit, local honey, and even homemade cookies and pies—also helps support local farmers, gardeners, and businesses.\n\n \nThe Didsbury Agricultural Society Farmers Market welcomes a great variety of local vendors ready to share their goods with you.\n\nEvery Wednesday Starting July 6, 2022 to September 28  - 5pm to 7 pm\n\nLocation: Didsbury Ag Society Grounds, 2 km NW of the town of Didsbury, off 23 Street\n

X-ALT-DESC;FMTTYPE=text/html:<!DOCTYPE HTML PUBLIC "-//W3C//DTD HTML 3.2//EN">\n<HTML>\n<HEAD>\n<META NAME="Generator" CONTENT="MS Exchange Server version 08.00.0681.000">\n<TITLE></TITLE>\n</HEAD>\n<BODY>\n<!-- Converted from text/rtf format -->\n\nOne of the best parts of summer and fall in Alberta is the garden-fresh meals we can enjoy. A great way to get that fresh food—garden veggies, ripe fruit, local honey, and even homemade cookies and pies—also helps support local farmers, gardeners, and businesses.<br /><br /> <br />The Didsbury Agricultural Society Farmers Market welcomes a great variety of local vendors ready to share their goods with you.<br /><br />Every Wednesday Starting July 6, 2022 to September 28  - 5pm to 7 pm<br /><br />Location: Didsbury Ag Society Grounds, 2 km NW of the town of Didsbury, off 23 Street<br />\n\n</BODY>\n</HTML>

LOCATION:MV94+V4 Didsbury, AB, Canada
END:VEVENT

END:VCALENDAR
