BEGIN:VCALENDAR
VERSION:2.0
PRODID:-//hacksw/handcal//NONSGML v1.0//EN
BEGIN:VEVENT
UID:ad2686343b6a7215996f8b2e0497d684
DTSTAMP:20260424T130658Z

DTSTART:20220722T180000
DTEND:20220724T200000
SUMMARY:Taste of the Middle East
DESCRIPTION:Are you ready for an explosion of Arabic Music, Art, Heritage & Food this summer?\n\nThe Taste of the Middle East Toronto Festival 2022 Celebrating Arabic Music, Art and Heritage, will transform Nathan Philips Square into a walk through the streets of the Middle Eastern culture and community. Serving up the delightful tastes of the Middle East's diversified flavours and cultures.\n\nThe Taste of the Middle East Toronto Festivalwill strive to showcase an eclectic mix of new and emerging local artists, old favourites, and some of today's most prominent performers in Toronto's Canadian Middle Eastern community.

X-ALT-DESC;FMTTYPE=text/html:<!DOCTYPE HTML PUBLIC "-//W3C//DTD HTML 3.2//EN">\n<HTML>\n<HEAD>\n<META NAME="Generator" CONTENT="MS Exchange Server version 08.00.0681.000">\n<TITLE></TITLE>\n</HEAD>\n<BODY>\n<!-- Converted from text/rtf format -->\n\nAre you ready for an explosion of Arabic Music, Art, Heritage & Food this summer?<br /><br />The Taste of the Middle East Toronto Festival 2022 Celebrating Arabic Music, Art and Heritage, will transform Nathan Philips Square into a walk through the streets of the Middle Eastern culture and community. Serving up the delightful tastes of the Middle East's diversified flavours and cultures.<br /><br />The Taste of the Middle East Toronto Festivalwill strive to showcase an eclectic mix of new and emerging local artists, old favourites, and some of today's most prominent performers in Toronto's Canadian Middle Eastern community.\n\n</BODY>\n</HTML>

LOCATION:100 Queen St W, Toronto, ON M5H 2N1, Canada
END:VEVENT

END:VCALENDAR
