BEGIN:VCALENDAR
VERSION:2.0
PRODID:-//hacksw/handcal//NONSGML v1.0//EN
BEGIN:VEVENT
UID:cdde16760f7ccba57b3c583b538d6684
DTSTAMP:20260422T180708Z

DTSTART:20220707T110000
DTEND:20220707T110000
SUMMARY:2900 Plaza 2020
DESCRIPTION:2900 Plaza is back! \nAll summer long the 2900 block of downtown Vernon is closed to street traffic and is an open plaza for sales, musical talent, lunchtime activities, and more. \nOn the Downtown Vernon Instagram page, each week is posted the coming week's activities musical lineups, and other happenings on the block itself!! \n\nWeekly events happening on the 2900 Plaza are:\nEveryday at Noon, Solo Artists\nThursdays, Downtown Sounds\nFridays at 5 pm, Local DJs\nSaturday features double entertainers.\n\nCivic Sounds update for locals:\nCivic sounds have now moved from city hall to the 2900 plaza, and have been renamed "Downtown Sounds". And will happen every Thursday!

X-ALT-DESC;FMTTYPE=text/html:<!DOCTYPE HTML PUBLIC "-//W3C//DTD HTML 3.2//EN">\n<HTML>\n<HEAD>\n<META NAME="Generator" CONTENT="MS Exchange Server version 08.00.0681.000">\n<TITLE></TITLE>\n</HEAD>\n<BODY>\n<!-- Converted from text/rtf format -->\n\n2900 Plaza is back! <br />All summer long the 2900 block of downtown Vernon is closed to street traffic and is an open plaza for sales, musical talent, lunchtime activities, and more. <br />On the Downtown Vernon Instagram page, each week is posted the coming week's activities musical lineups, and other happenings on the block itself!! <br /><br />Weekly events happening on the 2900 Plaza are:<br />Everyday at Noon, Solo Artists<br />Thursdays, Downtown Sounds<br />Fridays at 5 pm, Local DJs<br />Saturday features double entertainers.<br /><br />Civic Sounds update for locals:<br />Civic sounds have now moved from city hall to the 2900 plaza, and have been renamed "Downtown Sounds". And will happen every Thursday!\n\n</BODY>\n</HTML>

LOCATION:Vernon, BC, Canada
END:VEVENT

END:VCALENDAR
