BEGIN:VCALENDAR
VERSION:2.0
PRODID:-//hacksw/handcal//NONSGML v1.0//EN
BEGIN:VEVENT
UID:e826e2c16096067a1b7fefdcec18eec4
DTSTAMP:20260422T143533Z

DTSTART:20220707T110000
DTEND:20220707T110000
SUMMARY:Westside Daze 2022
DESCRIPTION:Westside Daze has returned after two years of no event due to COVID-19! \nFeatures many fun events, vendors, and activities throughout the three-day event. Including daily music, midway rides, and games, proformas from local playgroups, and a parade. \nA full lineup can be viewed on their website and is subject to change. 

X-ALT-DESC;FMTTYPE=text/html:<!DOCTYPE HTML PUBLIC "-//W3C//DTD HTML 3.2//EN">\n<HTML>\n<HEAD>\n<META NAME="Generator" CONTENT="MS Exchange Server version 08.00.0681.000">\n<TITLE></TITLE>\n</HEAD>\n<BODY>\n<!-- Converted from text/rtf format -->\n\nWestside Daze has returned after two years of no event due to COVID-19! <br />Features many fun events, vendors, and activities throughout the three-day event. Including daily music, midway rides, and games, proformas from local playgroups, and a parade. <br />A full lineup can be viewed on their website and is subject to change. \n\n</BODY>\n</HTML>

LOCATION:Memorial Park, 3743 Old Okanagan Hwy, West Kelowna, BC V4T 2H6, Canada
END:VEVENT

END:VCALENDAR
