BEGIN:VCALENDAR
VERSION:2.0
PRODID:-//hacksw/handcal//NONSGML v1.0//EN
BEGIN:VEVENT
UID:c20dbfe0d32e4491de9af680d21ccf31
DTSTAMP:20260421T180116Z

DTSTART:20220726T110000
DTEND:20220726T140000
SUMMARY:Whitecourt Farmers' Market 2022 - 26.07.2022
DESCRIPTION:Whitecourt Farmers Market is where you will find lots of great vendors selling their fresh fruits and vegetables, fresh local honey, you will also see handcrafted items, and homemade food. The Market is every Tuesday from 11:00 a.m. to 2:00 p.m at the Whitecourt Legion Hall.

X-ALT-DESC;FMTTYPE=text/html:<!DOCTYPE HTML PUBLIC "-//W3C//DTD HTML 3.2//EN">\n<HTML>\n<HEAD>\n<META NAME="Generator" CONTENT="MS Exchange Server version 08.00.0681.000">\n<TITLE></TITLE>\n</HEAD>\n<BODY>\n<!-- Converted from text/rtf format -->\n\nWhitecourt Farmers Market is where you will find lots of great vendors selling their fresh fruits and vegetables, fresh local honey, you will also see handcrafted items, and homemade food. The Market is every Tuesday from 11:00 a.m. to 2:00 p.m at the Whitecourt Legion Hall.\n\n</BODY>\n</HTML>

LOCATION:Whitecourt, AB, Canada
END:VEVENT

END:VCALENDAR
