BEGIN:VCALENDAR
VERSION:2.0
PRODID:-//hacksw/handcal//NONSGML v1.0//EN
BEGIN:VEVENT
UID:09adad7406ad3c2e49b906b115df76d4
DTSTAMP:20260420T203610Z

DTSTART:20220721T170000
DTEND:20220721T200000
SUMMARY:Beaumont Alberta Farmers' Market 2022 - 21.07.2022
DESCRIPTION:The Beaumont Alberta Farmers' Market located in Beaumont Alberta at 5012B 50 St in Centre-Ville Park! Also known as "Poutine Park" or "that park behind Chartier"\n Come for your go to vendor,  and leave with some new favorites.\n Make it, bake it, grow it. You'll find so many amazing items! \nEvery Thursday from 5pm-8pm until Sept 22.

X-ALT-DESC;FMTTYPE=text/html:<!DOCTYPE HTML PUBLIC "-//W3C//DTD HTML 3.2//EN">\n<HTML>\n<HEAD>\n<META NAME="Generator" CONTENT="MS Exchange Server version 08.00.0681.000">\n<TITLE></TITLE>\n</HEAD>\n<BODY>\n<!-- Converted from text/rtf format -->\n\nThe Beaumont Alberta Farmers' Market located in Beaumont Alberta at 5012B 50 St in Centre-Ville Park! Also known as "Poutine Park" or "that park behind Chartier"<br /> Come for your go to vendor,  and leave with some new favorites.<br /> Make it, bake it, grow it. You'll find so many amazing items! <br />Every Thursday from 5pm-8pm until Sept 22.\n\n</BODY>\n</HTML>

LOCATION:5012B 50 St, Beaumont, AB T4X 1E6, Canada
END:VEVENT

END:VCALENDAR
