BEGIN:VCALENDAR
VERSION:2.0
PRODID:-//hacksw/handcal//NONSGML v1.0//EN
BEGIN:VEVENT
UID:afcd1b4a5bfcc93f602bc76375fee90d
DTSTAMP:20260425T121840Z

DTSTART:20220821T143000
DTEND:20220821T234500
SUMMARY:Rock 102’s Rock the River – Saskatchewan’s Classic Rock Festival 2022 - 21.08.2022
DESCRIPTION:Rock 102 is pleased to present Rock 102’s Rock the River – Saskatchewan’s Classic Rock Festival at Delta Hotels by Marriott Bessborough Gardens from Friday, August 19 to Sunday, August 21.\n\nRock hits from the likes of:\n\nKiller Dwarfs – SAGA – Burton Cummings\n\nTeaze – Teenage Head – Toronto – Nazareth\n\nHelix – Lee Aaron – Little River Band – Kim Mitchell\n\nROCK THE RIVER\n\nThis 3-day outdoor event will be held on August 19, 20, & 21, 2022 in Saskatoon’s iconic Delta Hotels by Marriott Bessborough Gardens features an outstanding line-up of Canadian Classic Rock bands that will perform all their hit songs that we've loved for decades.\n\nFriday, August 19, 2022\n• 5:00pm – Gates Open\n• 6:00pm – Killer Dwarfs\n• 7:15pm – SAGA\n• 8:30pm – Burton Cummings\n\nSaturday, August 20, 2022\n• 2:30pm – Gates Open\n• 3:30pm - Teaze\n• 5:00pm – Teenage Head\n• 6:40pm – Toronto\n• 8:30pm – Nazareth\n\nSunday, August 21, 2022\n• 2:30pm – Gates Open\n• 3:30pm - Helix\n• 5:00pm – Lee Aaron\n• 6:40pm – Headpins\n• 8:30pm – Kim Mitchell\n

X-ALT-DESC;FMTTYPE=text/html:<!DOCTYPE HTML PUBLIC "-//W3C//DTD HTML 3.2//EN">\n<HTML>\n<HEAD>\n<META NAME="Generator" CONTENT="MS Exchange Server version 08.00.0681.000">\n<TITLE></TITLE>\n</HEAD>\n<BODY>\n<!-- Converted from text/rtf format -->\n\nRock 102 is pleased to present Rock 102’s Rock the River – Saskatchewan’s Classic Rock Festival at Delta Hotels by Marriott Bessborough Gardens from Friday, August 19 to Sunday, August 21.<br /><br />Rock hits from the likes of:<br /><br />Killer Dwarfs – SAGA – Burton Cummings<br /><br />Teaze – Teenage Head – Toronto – Nazareth<br /><br />Helix – Lee Aaron – Little River Band – Kim Mitchell<br /><br />ROCK THE RIVER<br /><br />This 3-day outdoor event will be held on August 19, 20, & 21, 2022 in Saskatoon’s iconic Delta Hotels by Marriott Bessborough Gardens features an outstanding line-up of Canadian Classic Rock bands that will perform all their hit songs that we've loved for decades.<br /><br />Friday, August 19, 2022<br />• 5:00pm – Gates Open<br />• 6:00pm – Killer Dwarfs<br />• 7:15pm – SAGA<br />• 8:30pm – Burton Cummings<br /><br />Saturday, August 20, 2022<br />• 2:30pm – Gates Open<br />• 3:30pm - Teaze<br />• 5:00pm – Teenage Head<br />• 6:40pm – Toronto<br />• 8:30pm – Nazareth<br /><br />Sunday, August 21, 2022<br />• 2:30pm – Gates Open<br />• 3:30pm - Helix<br />• 5:00pm – Lee Aaron<br />• 6:40pm – Headpins<br />• 8:30pm – Kim Mitchell<br />\n\n</BODY>\n</HTML>

LOCATION:601 Spadina Crescent E, Saskatoon, SK S7K 3G8, Canada
END:VEVENT

END:VCALENDAR
