BEGIN:VCALENDAR
VERSION:2.0
PRODID:-//hacksw/handcal//NONSGML v1.0//EN
BEGIN:VEVENT
UID:f9a8ea84b76f97e3ff5b4fbf87b4ad4d
DTSTAMP:20260421T145615Z

DTSTART:20220724T100000
DTEND:20220726T200000
SUMMARY:Gateway Music Festival 2022 - 24.07.2022
DESCRIPTION:Chilliwack is headed to Bengough! \nCatch them and many others including Gord Bamford, The Northern Pikes, Grapes of Wrath, Besnard Lakes, Mariel Buckley, Megan Nash, The Garrys, People of the Sun, Surf Dads, Marissa Burwell, Kara Golemba, Aaron Karpinka from July 22-24, 2022.\nWe have 3 stages with full professional production giving you a top-notch festival within a small-town atmosphere..up close and personal to all your favorite performers!!

X-ALT-DESC;FMTTYPE=text/html:<!DOCTYPE HTML PUBLIC "-//W3C//DTD HTML 3.2//EN">\n<HTML>\n<HEAD>\n<META NAME="Generator" CONTENT="MS Exchange Server version 08.00.0681.000">\n<TITLE></TITLE>\n</HEAD>\n<BODY>\n<!-- Converted from text/rtf format -->\n\nChilliwack is headed to Bengough! <br />Catch them and many others including Gord Bamford, The Northern Pikes, Grapes of Wrath, Besnard Lakes, Mariel Buckley, Megan Nash, The Garrys, People of the Sun, Surf Dads, Marissa Burwell, Kara Golemba, Aaron Karpinka from July 22-24, 2022.<br />We have 3 stages with full professional production giving you a top-notch festival within a small-town atmosphere..up close and personal to all your favorite performers!!\n\n</BODY>\n</HTML>

LOCATION:Bengough, SK S0C 0K0, Canada
END:VEVENT

END:VCALENDAR
