BEGIN:VCALENDAR
VERSION:2.0
PRODID:-//hacksw/handcal//NONSGML v1.0//EN
BEGIN:VEVENT
UID:1bdf7569649c13e7eb1a9fa9db293c7c
DTSTAMP:20260421T010447Z

DTSTART:20220730T100000
DTEND:20220731T190000
SUMMARY:The Bruce Stampede & Pro Rodeo 2022
DESCRIPTION:Since 1914 the Bruce Stampede has hosted riders, ropers, racers, and the bravest cowboys and cowgirls the Rodeo World offers. The Bruce Stampede is Canada's Oldest One Day Pro Rodeo and provides an action-packed day of CPRA Pro Rodeo events. It also offers fun rodeo events and Stampede activities that locals amateurs, and families can participate in all weekend long. \nFREE dry camping (no services) and FREE parking all Stampede weekend long!\n​

X-ALT-DESC;FMTTYPE=text/html:<!DOCTYPE HTML PUBLIC "-//W3C//DTD HTML 3.2//EN">\n<HTML>\n<HEAD>\n<META NAME="Generator" CONTENT="MS Exchange Server version 08.00.0681.000">\n<TITLE></TITLE>\n</HEAD>\n<BODY>\n<!-- Converted from text/rtf format -->\n\nSince 1914 the Bruce Stampede has hosted riders, ropers, racers, and the bravest cowboys and cowgirls the Rodeo World offers. The Bruce Stampede is Canada's Oldest One Day Pro Rodeo and provides an action-packed day of CPRA Pro Rodeo events. It also offers fun rodeo events and Stampede activities that locals amateurs, and families can participate in all weekend long. <br />FREE dry camping (no services) and FREE parking all Stampede weekend long!<br />​\n\n</BODY>\n</HTML>

LOCATION:AB-14, Bruce, AB, Canada
END:VEVENT

END:VCALENDAR
