BEGIN:VCALENDAR
VERSION:2.0
PRODID:-//hacksw/handcal//NONSGML v1.0//EN
BEGIN:VEVENT
UID:1e007ac617d123778475ccb7c349d1db
DTSTAMP:20260423T225125Z

DTSTART:20220722T090000
DTEND:20220724T180000
SUMMARY:Hillside Festival 
DESCRIPTION:The Hillside Summer Festival and Hillside Inside are three-day, multi-stage events with a broad artistic vision that emphasizes diversity: Culture, Musical heritage and style, geography, and influence.\nSet in a beautiful, accessible conservation area with campgrounds on Guelph Lake, this summer festival is world-renowned as one of Canada’s most progressive, environmentally conscious, completely non-commercial community celebrations. We create a village on Guelph Lake Island that will fill with music, dance, drumming, food, crafts, and more. \n\n

X-ALT-DESC;FMTTYPE=text/html:<!DOCTYPE HTML PUBLIC "-//W3C//DTD HTML 3.2//EN">\n<HTML>\n<HEAD>\n<META NAME="Generator" CONTENT="MS Exchange Server version 08.00.0681.000">\n<TITLE></TITLE>\n</HEAD>\n<BODY>\n<!-- Converted from text/rtf format -->\n\nThe Hillside Summer Festival and Hillside Inside are three-day, multi-stage events with a broad artistic vision that emphasizes diversity: Culture, Musical heritage and style, geography, and influence.<br />Set in a beautiful, accessible conservation area with campgrounds on Guelph Lake, this summer festival is world-renowned as one of Canada’s most progressive, environmentally conscious, completely non-commercial community celebrations. We create a village on Guelph Lake Island that will fill with music, dance, drumming, food, crafts, and more. <br /><br />\n\n</BODY>\n</HTML>

LOCATION:Guelph Lake, Guelph/Eramosa, ON N0B, Canada
END:VEVENT

END:VCALENDAR
