BEGIN:VCALENDAR
VERSION:2.0
PRODID:-//hacksw/handcal//NONSGML v1.0//EN
BEGIN:VEVENT
UID:d2d485c1951c82a02ea4bf5494700f2a
DTSTAMP:20260423T015343Z

DTSTART:20220618T000000
DTEND:20220618T235959
SUMMARY:SUNSHINE 'DAY'
DESCRIPTION:Not much has been announced yet for Sunshine Day in Vernon BC. \nThis slightly adjected version of the Sunshine festival (Adjusted due to COVID-19) will feature street vendors, walking entertainment, a fashion show, and much more that is yet to be announced!\nThe best part is it is completely FREE!

X-ALT-DESC;FMTTYPE=text/html:<!DOCTYPE HTML PUBLIC "-//W3C//DTD HTML 3.2//EN">\n<HTML>\n<HEAD>\n<META NAME="Generator" CONTENT="MS Exchange Server version 08.00.0681.000">\n<TITLE></TITLE>\n</HEAD>\n<BODY>\n<!-- Converted from text/rtf format -->\n\nNot much has been announced yet for Sunshine Day in Vernon BC. <br />This slightly adjected version of the Sunshine festival (Adjusted due to COVID-19) will feature street vendors, walking entertainment, a fashion show, and much more that is yet to be announced!<br />The best part is it is completely FREE!\n\n</BODY>\n</HTML>

LOCATION:Vernon, BC, Canada
END:VEVENT

END:VCALENDAR
