BEGIN:VCALENDAR
VERSION:2.0
PRODID:-//hacksw/handcal//NONSGML v1.0//EN
BEGIN:VEVENT
UID:3e84cd03403c7e8afc0878f7faa0769e
DTSTAMP:20260420T191231Z

DTSTART:20220603T153000
DTEND:20220603T153000
SUMMARY:Winnipeg Whiskey Festival 2022 - 03.06.2022
DESCRIPTION:We can’t wait to see you again for the 10th annual Winnipeg Whisky Festival June 2 & 3 2022 in support of the Manitoba Sports Hall of Fame presented by Manitoba Liquor Marts at the Fairmont Winnipeg.\n\nFeatured products include Scotch, Irish, Bourbon, Tennessee, Taiwanese, Indian, Japanese and Canadian whiskies along with Cognac, Rum, Tequila and other spirits.\n\nHere's your opportunity to taste products from around the world. Sample premium whiskies and other spirits from different countries and price points.\n\n\n\nENJOY THE FESTIVAL YOUR WAY.\n\nExperience this unique, first-class event your way by choosing\n\nthe day and ticket category.\n\nLimited tickets are available for each evening so don’t delay.\n\n• Over 200 products available to sample\n\n• All evening gourmet buffet\n\n• Beam Suntory “On the Rocks” Bar\n\n• Souvenir Glencairn whisky glass\n\n• $10 Taxi voucher for safe ride home\n\nThe Fairmont Winnipeg is known for it's gourmet fare and Executive Sous Chef Richard Duncan is planning a delectable, mouthwatering feast sure to please.\n\nCheck our website for more information about our online auction in support of Manitoba Sports Hall of Fame launching on MAY 16. There are plenty of exciting packages to bid on so don't miss it!

X-ALT-DESC;FMTTYPE=text/html:<!DOCTYPE HTML PUBLIC "-//W3C//DTD HTML 3.2//EN">\n<HTML>\n<HEAD>\n<META NAME="Generator" CONTENT="MS Exchange Server version 08.00.0681.000">\n<TITLE></TITLE>\n</HEAD>\n<BODY>\n<!-- Converted from text/rtf format -->\n\nWe can’t wait to see you again for the 10th annual Winnipeg Whisky Festival June 2 & 3 2022 in support of the Manitoba Sports Hall of Fame presented by Manitoba Liquor Marts at the Fairmont Winnipeg.<br /><br />Featured products include Scotch, Irish, Bourbon, Tennessee, Taiwanese, Indian, Japanese and Canadian whiskies along with Cognac, Rum, Tequila and other spirits.<br /><br />Here's your opportunity to taste products from around the world. Sample premium whiskies and other spirits from different countries and price points.<br /><br /><br /><br />ENJOY THE FESTIVAL YOUR WAY.<br /><br />Experience this unique, first-class event your way by choosing<br /><br />the day and ticket category.<br /><br />Limited tickets are available for each evening so don’t delay.<br /><br />• Over 200 products available to sample<br /><br />• All evening gourmet buffet<br /><br />• Beam Suntory “On the Rocks” Bar<br /><br />• Souvenir Glencairn whisky glass<br /><br />• $10 Taxi voucher for safe ride home<br /><br />The Fairmont Winnipeg is known for it's gourmet fare and Executive Sous Chef Richard Duncan is planning a delectable, mouthwatering feast sure to please.<br /><br />Check our website for more information about our online auction in support of Manitoba Sports Hall of Fame launching on MAY 16. There are plenty of exciting packages to bid on so don't miss it!\n\n</BODY>\n</HTML>

LOCATION:2 Lombard Place, Winnipeg, MB R3B 0Y3, Canada
END:VEVENT

END:VCALENDAR
