BEGIN:VCALENDAR
VERSION:2.0
PRODID:-//hacksw/handcal//NONSGML v1.0//EN
BEGIN:VEVENT
UID:3828a2b304546444dadd74a9a3e26662
DTSTAMP:20260421T003846Z

DTSTART:20220219T000000
DTEND:20220221T235959
SUMMARY:Free Family Fishing Weekend Alberta
DESCRIPTION:Come catch memories this family day with Alberta's Free Family Fishing Weekend!\nFishing is a great way to connect with some of Alberta’s greatest natural resources - our lakes, rivers, streams, and the fish that live in them. During Family Fishing Weekends, Albertans and visitors are encouraged to give fishing a try on waterbodies with open fishing seasons without having to purchase a sport fishing license. All fishing regulations still apply and fishing in national parks isn't included.\nAlberta has approximately 130+ stocked waterbodies for anglers young and old to enjoy! The waterbodies are stocked with Rainbow Trout, Brook Trout, Brown Trout, Cutthroat Trout & Tiger Trout.

X-ALT-DESC;FMTTYPE=text/html:<!DOCTYPE HTML PUBLIC "-//W3C//DTD HTML 3.2//EN">\n<HTML>\n<HEAD>\n<META NAME="Generator" CONTENT="MS Exchange Server version 08.00.0681.000">\n<TITLE></TITLE>\n</HEAD>\n<BODY>\n<!-- Converted from text/rtf format -->\n\nCome catch memories this family day with Alberta's Free Family Fishing Weekend!<br />Fishing is a great way to connect with some of Alberta’s greatest natural resources - our lakes, rivers, streams, and the fish that live in them. During Family Fishing Weekends, Albertans and visitors are encouraged to give fishing a try on waterbodies with open fishing seasons without having to purchase a sport fishing license. All fishing regulations still apply and fishing in national parks isn't included.<br />Alberta has approximately 130+ stocked waterbodies for anglers young and old to enjoy! The waterbodies are stocked with Rainbow Trout, Brook Trout, Brown Trout, Cutthroat Trout & Tiger Trout.\n\n</BODY>\n</HTML>

LOCATION:Sylvan Lake, AB, Canada
END:VEVENT

END:VCALENDAR
