BEGIN:VCALENDAR
VERSION:2.0
PRODID:-//hacksw/handcal//NONSGML v1.0//EN
BEGIN:VEVENT
UID:79ea43066ff904cb58b8aaec627e828c
DTSTAMP:20260422T203528Z

DTSTART:20220204T100000
DTEND:20220204T160000
SUMMARY:Escape the Mayhem
DESCRIPTION:This special themed event at Okanagan Science center will take place as part of the Vernon Winter Carnival Line up and requires a minimum of 2 participants. \nYou and your partner, family or friends need to work together to figure out what has happened to "Professor Bunsen" the lead scientist in the scenario. You need to follow clues around the center and solve the mystery. \n Minimum of 2 participants- maximum of 8.\nPrebooking is required. 

X-ALT-DESC;FMTTYPE=text/html:<!DOCTYPE HTML PUBLIC "-//W3C//DTD HTML 3.2//EN">\n<HTML>\n<HEAD>\n<META NAME="Generator" CONTENT="MS Exchange Server version 08.00.0681.000">\n<TITLE></TITLE>\n</HEAD>\n<BODY>\n<!-- Converted from text/rtf format -->\n\nThis special themed event at Okanagan Science center will take place as part of the Vernon Winter Carnival Line up and requires a minimum of 2 participants. <br />You and your partner, family or friends need to work together to figure out what has happened to "Professor Bunsen" the lead scientist in the scenario. You need to follow clues around the center and solve the mystery. <br /> Minimum of 2 participants- maximum of 8.<br />Prebooking is required. \n\n</BODY>\n</HTML>

LOCATION:2704 BC-6, Vernon, BC V1T 5G5, Canada
END:VEVENT

END:VCALENDAR
