BEGIN:VCALENDAR
VERSION:2.0
PRODID:-//hacksw/handcal//NONSGML v1.0//EN
BEGIN:VEVENT
UID:b1b8afdcf3bbaf13a72cea792380a7f1
DTSTAMP:20260419T165430Z

DTSTART:20220204T000000
DTEND:20220204T000000
SUMMARY:Downtown Vernon Gold Rush
DESCRIPTION:Last year this event had won the Vernon Winter Carnival Award for a best outdoor event. Downtown Vernon Gold Rush is the ultimate family scavenger hunt all across Downtown Vernon! Rush to figure out the clues for a chance to win a real gold nugget! The clues are brain teasers, so you may need to include family, friends, and maybe even a google search or two. \nAll answers are found in Downtown Vernon, so you don't have to travel far!\n\nAdmission is $10

X-ALT-DESC;FMTTYPE=text/html:<!DOCTYPE HTML PUBLIC "-//W3C//DTD HTML 3.2//EN">\n<HTML>\n<HEAD>\n<META NAME="Generator" CONTENT="MS Exchange Server version 08.00.0681.000">\n<TITLE></TITLE>\n</HEAD>\n<BODY>\n<!-- Converted from text/rtf format -->\n\nLast year this event had won the Vernon Winter Carnival Award for a best outdoor event. Downtown Vernon Gold Rush is the ultimate family scavenger hunt all across Downtown Vernon! Rush to figure out the clues for a chance to win a real gold nugget! The clues are brain teasers, so you may need to include family, friends, and maybe even a google search or two. <br />All answers are found in Downtown Vernon, so you don't have to travel far!<br /><br />Admission is $10\n\n</BODY>\n</HTML>

LOCATION:3334 30th Ave, Vernon, BC V1T 2C3, Canada
END:VEVENT

END:VCALENDAR
