BEGIN:VCALENDAR
VERSION:2.0
PRODID:-//hacksw/handcal//NONSGML v1.0//EN
BEGIN:VEVENT
UID:e477818aba04faae13e741711352f7ee
DTSTAMP:20260423T194320Z

DTSTART:20220204T130000
DTEND:20220214T130000
SUMMARY:Chili Cook Off
DESCRIPTION:The annual Chili cookoff has returned after taking a year off due to COVID-19!\nFor the first time ever the chili cookoff competition will be taking place for the whole of Vernon Winter Carnival. During the entire carnival length head into participating restaurants, order their chili, and give it a try! Don't forget to ask for a ballot at your first location so you can vote on the BEST CHILI in town! There is also a chance for you to win a prize by visiting all the participating locations across Vernon. \nStay tuned on Vernon Winter Cavrinval's website and Facebook for participating locations!\n\n*Some locations with this event will require proof of full vaccination*

X-ALT-DESC;FMTTYPE=text/html:<!DOCTYPE HTML PUBLIC "-//W3C//DTD HTML 3.2//EN">\n<HTML>\n<HEAD>\n<META NAME="Generator" CONTENT="MS Exchange Server version 08.00.0681.000">\n<TITLE></TITLE>\n</HEAD>\n<BODY>\n<!-- Converted from text/rtf format -->\n\nThe annual Chili cookoff has returned after taking a year off due to COVID-19!<br />For the first time ever the chili cookoff competition will be taking place for the whole of Vernon Winter Carnival. During the entire carnival length head into participating restaurants, order their chili, and give it a try! Don't forget to ask for a ballot at your first location so you can vote on the BEST CHILI in town! There is also a chance for you to win a prize by visiting all the participating locations across Vernon. <br />Stay tuned on Vernon Winter Cavrinval's website and Facebook for participating locations!<br /><br />*Some locations with this event will require proof of full vaccination*\n\n</BODY>\n</HTML>

LOCATION:Vernon, BC, Canada
END:VEVENT

END:VCALENDAR
