BEGIN:VCALENDAR
VERSION:2.0
PRODID:-//hacksw/handcal//NONSGML v1.0//EN
BEGIN:VEVENT
UID:461639ee51e807a3cc61b1d63348220b
DTSTAMP:20260420T150020Z

DTSTART:20211217T200000
DTEND:20211219T230000
SUMMARY:Black X-Mas at The Fright House - Morley, Alberta
DESCRIPTION:This year Fright House Morley is hosting its 1st Annual Black X-Mas Haunted Walk Through.\nA creepy holiday is right around the corner with a 3-night event starting Friday, December 17th to Sunday, December 19th, 2021.\nThe Ghost of Christmas will haunt the Fright House Morley at the Amos Ville Farm from 8 pm to 11 pm for 3 days only.\nLimited tickets are available on Eventbrite\nLocated on the Kananaskis Highway 40 in the Bow Valley area.\nPG 13 event\n

X-ALT-DESC;FMTTYPE=text/html:<!DOCTYPE HTML PUBLIC "-//W3C//DTD HTML 3.2//EN">\n<HTML>\n<HEAD>\n<META NAME="Generator" CONTENT="MS Exchange Server version 08.00.0681.000">\n<TITLE></TITLE>\n</HEAD>\n<BODY>\n<!-- Converted from text/rtf format -->\n\nThis year Fright House Morley is hosting its 1st Annual Black X-Mas Haunted Walk Through.<br />A creepy holiday is right around the corner with a 3-night event starting Friday, December 17th to Sunday, December 19th, 2021.<br />The Ghost of Christmas will haunt the Fright House Morley at the Amos Ville Farm from 8 pm to 11 pm for 3 days only.<br />Limited tickets are available on Eventbrite<br />Located on the Kananaskis Highway 40 in the Bow Valley area.<br />PG 13 event<br />\n\n</BODY>\n</HTML>

LOCATION:Morley, AB T0L 1N0, Canada
END:VEVENT

END:VCALENDAR
