BEGIN:VCALENDAR
VERSION:2.0
PRODID:-//hacksw/handcal//NONSGML v1.0//EN
BEGIN:VEVENT
UID:6fc2e05e7e60243e5d16ee8868e27ce4
DTSTAMP:20260420T132519Z

DTSTART:20211126T180000
DTEND:20211126T180000
SUMMARY:2021 Santa Claus Parade - Cold Lake
DESCRIPTION:Santa Claus has a whole lot of houses to visit in Cold Lake and the Lakeland on Christmas Eve. To make sure he's prepared for his big trip, Santa likes to do a scouting mission a few weeks early, just to see which Cold Lake kids have been naughty and which have been nice, and to make sure everyone is in the Christmas Spirit. Each November, usually on the last Friday of the month, Jolly old Saint Nick arrives in Cold Lake for the Santa Claus Parade. Families line the streets as floats wind their way through the downtown.\n\nThe 2021 Santa Claus Parade is Friday, November 26

X-ALT-DESC;FMTTYPE=text/html:<!DOCTYPE HTML PUBLIC "-//W3C//DTD HTML 3.2//EN">\n<HTML>\n<HEAD>\n<META NAME="Generator" CONTENT="MS Exchange Server version 08.00.0681.000">\n<TITLE></TITLE>\n</HEAD>\n<BODY>\n<!-- Converted from text/rtf format -->\n\nSanta Claus has a whole lot of houses to visit in Cold Lake and the Lakeland on Christmas Eve. To make sure he's prepared for his big trip, Santa likes to do a scouting mission a few weeks early, just to see which Cold Lake kids have been naughty and which have been nice, and to make sure everyone is in the Christmas Spirit. Each November, usually on the last Friday of the month, Jolly old Saint Nick arrives in Cold Lake for the Santa Claus Parade. Families line the streets as floats wind their way through the downtown.<br /><br />The 2021 Santa Claus Parade is Friday, November 26\n\n</BODY>\n</HTML>

LOCATION:50 Ave, Cold Lake, AB T9M, Canada
END:VEVENT

END:VCALENDAR
