BEGIN:VCALENDAR
VERSION:2.0
PRODID:-//hacksw/handcal//NONSGML v1.0//EN
BEGIN:VEVENT
UID:6cd90d626ad4e83933f3214460e22548
DTSTAMP:20260422T230812Z

DTSTART:20211016T100000
DTEND:20211016T143000
SUMMARY:Molner's Pumpkin Festival  - 16.10.2021
DESCRIPTION:Admission includes lots of fun family games, photo opportunities, pony rides, pumpkin bounce house and your choice pumpkin out of the patch! Due to Covid there will be no hay ride this year. We will go ahead rain or shine no refunds. 2 and under are free\nTime slot tickets available at https://molnarsfarm.wixsite.com/website?fbclid=IwAR1OtFnmWU6ziXN3I0WL-Gt03nGDzdMJGpIGpDy2Tc_eEyZzPVE4lCYIgwg\nTime slots are 10am-12pm and 12:30pm-2:30pm\n\n

X-ALT-DESC;FMTTYPE=text/html:<!DOCTYPE HTML PUBLIC "-//W3C//DTD HTML 3.2//EN">\n<HTML>\n<HEAD>\n<META NAME="Generator" CONTENT="MS Exchange Server version 08.00.0681.000">\n<TITLE></TITLE>\n</HEAD>\n<BODY>\n<!-- Converted from text/rtf format -->\n\nAdmission includes lots of fun family games, photo opportunities, pony rides, pumpkin bounce house and your choice pumpkin out of the patch! Due to Covid there will be no hay ride this year. We will go ahead rain or shine no refunds. 2 and under are free<br />Time slot tickets available at https://molnarsfarm.wixsite.com/website?fbclid=IwAR1OtFnmWU6ziXN3I0WL-Gt03nGDzdMJGpIGpDy2Tc_eEyZzPVE4lCYIgwg<br />Time slots are 10am-12pm and 12:30pm-2:30pm<br /><br />\n\n</BODY>\n</HTML>

LOCATION:Range Rd 273, Alberta T0K, Canada
END:VEVENT

END:VCALENDAR
