BEGIN:VCALENDAR
VERSION:2.0
PRODID:-//hacksw/handcal//NONSGML v1.0//EN
BEGIN:VEVENT
UID:cc9314296953ae1c4b0a3afe40a615d0
DTSTAMP:20260420T045700Z

DTSTART:20210926T120000
DTEND:20210926T160000
SUMMARY:Falkland Community Assoc. Spirit Festival
DESCRIPTION:A community get-together in honor of the Falkland stampede that was unable to happen this year due to COVID-19. \nA fun way to reconnect with the community and nearby community and celebrate with neighbors during this tough time. 

X-ALT-DESC;FMTTYPE=text/html:<!DOCTYPE HTML PUBLIC "-//W3C//DTD HTML 3.2//EN">\n<HTML>\n<HEAD>\n<META NAME="Generator" CONTENT="MS Exchange Server version 08.00.0681.000">\n<TITLE></TITLE>\n</HEAD>\n<BODY>\n<!-- Converted from text/rtf format -->\n\nA community get-together in honor of the Falkland stampede that was unable to happen this year due to COVID-19. <br />A fun way to reconnect with the community and nearby community and celebrate with neighbors during this tough time. \n\n</BODY>\n</HTML>

LOCATION:Falkland, BC V0E 1W0, Canada
END:VEVENT

END:VCALENDAR
