BEGIN:VCALENDAR
VERSION:2.0
PRODID:-//hacksw/handcal//NONSGML v1.0//EN
BEGIN:VEVENT
UID:e8d11d138ba65bad3fde3769b857c769
DTSTAMP:20260421T004246Z

DTSTART:20210701T000000
DTEND:20210831T235959
SUMMARY:2900 Plaza
DESCRIPTION:All day every day while visiting Vernon BC you can come and enjoy the downtown Vernon Plaza. \nFor the summer Downtown Vernon Association has closed off the entire 2900 block of downtown Vernon, making it an entertainment and family path and hot spot. \nTuesdays thru Saturdays there is live entertainment between 12 pm (noon) and 1:30 pm. Every Tuesday brings the kiddos to storytime outside at 10 am brought to you by the Vernon Libary! \n(all performances are subject to change with air quality, smoke, and fire conditions.) \nYou can check on Downtown Vernon's Instagram page weekly for the week's lineup of events. \n\nDuring the evening the plaza lights up with overhead fairy lights creating a magical atmosphere, there are also picnic tables and lounge lined throughout the plaza for your enjoyment!

X-ALT-DESC;FMTTYPE=text/html:<!DOCTYPE HTML PUBLIC "-//W3C//DTD HTML 3.2//EN">\n<HTML>\n<HEAD>\n<META NAME="Generator" CONTENT="MS Exchange Server version 08.00.0681.000">\n<TITLE></TITLE>\n</HEAD>\n<BODY>\n<!-- Converted from text/rtf format -->\n\nAll day every day while visiting Vernon BC you can come and enjoy the downtown Vernon Plaza. <br />For the summer Downtown Vernon Association has closed off the entire 2900 block of downtown Vernon, making it an entertainment and family path and hot spot. <br />Tuesdays thru Saturdays there is live entertainment between 12 pm (noon) and 1:30 pm. Every Tuesday brings the kiddos to storytime outside at 10 am brought to you by the Vernon Libary! <br />(all performances are subject to change with air quality, smoke, and fire conditions.) <br />You can check on Downtown Vernon's Instagram page weekly for the week's lineup of events. <br /><br />During the evening the plaza lights up with overhead fairy lights creating a magical atmosphere, there are also picnic tables and lounge lined throughout the plaza for your enjoyment!\n\n</BODY>\n</HTML>

LOCATION:Vernon, BC, Canada
END:VEVENT

END:VCALENDAR
