BEGIN:VCALENDAR
VERSION:2.0
PRODID:-//hacksw/handcal//NONSGML v1.0//EN
BEGIN:VEVENT
UID:a03b70c51267442cc82ee52c0c08c244
DTSTAMP:20260419T213118Z

DTSTART:20210717T110000
DTEND:20210717T210000
SUMMARY:Humberstone Speedway Demolition Derby & Figure 8 Racing
DESCRIPTION:Great family fun at Humberstone Speedway Saturday, July 17th, 2021\nHumberstone Speedway is a 3/8 mile clay oval track located in the scenic town of Port Colborne, Ontario.  July 17th we will have Pro Trucks, Kicker Cars, Junk Run, Stock Compacts, Full Size Straight Stock & Figure 8.\nCome cheer on our favorite drivers and cars!\nGates open at 11 am for Spectators and Show starts at 2 pm sharp!

X-ALT-DESC;FMTTYPE=text/html:<!DOCTYPE HTML PUBLIC "-//W3C//DTD HTML 3.2//EN">\n<HTML>\n<HEAD>\n<META NAME="Generator" CONTENT="MS Exchange Server version 08.00.0681.000">\n<TITLE></TITLE>\n</HEAD>\n<BODY>\n<!-- Converted from text/rtf format -->\n\nGreat family fun at Humberstone Speedway Saturday, July 17th, 2021<br />Humberstone Speedway is a 3/8 mile clay oval track located in the scenic town of Port Colborne, Ontario.  July 17th we will have Pro Trucks, Kicker Cars, Junk Run, Stock Compacts, Full Size Straight Stock & Figure 8.<br />Come cheer on our favorite drivers and cars!<br />Gates open at 11 am for Spectators and Show starts at 2 pm sharp!\n\n</BODY>\n</HTML>

LOCATION:1716 Main St E, Port Colborne, ON L3K 5V3, Canada
END:VEVENT

END:VCALENDAR
