BEGIN:VCALENDAR
VERSION:2.0
PRODID:-//hacksw/handcal//NONSGML v1.0//EN
BEGIN:VEVENT
UID:f9dcf6df5fd57b2b74f804777e6ab43a
DTSTAMP:20260421T054000Z

DTSTART:20211218T110000
DTEND:20211218T140000
SUMMARY:Bonnyville Farmers' Market - 18.12.2021
DESCRIPTION:We operate every Saturday Year Round (Excluding Stats). 11am-2pm\nLocally grown veggies and fruits, delicious baked goods and a large variety of quality artisan products offered in many categories.\n\nLocated inside the Bonnyville & District Centennial Centre\n\nJams, Jellies, preserves, jewelry, rocks, crystals, essential oils, Bath and body products, pies, bread, squares, cookies, muffins, home decorations, outside decorations, net and crochet goods, clean eating, eggs, beef, chicken and more!

X-ALT-DESC;FMTTYPE=text/html:<!DOCTYPE HTML PUBLIC "-//W3C//DTD HTML 3.2//EN">\n<HTML>\n<HEAD>\n<META NAME="Generator" CONTENT="MS Exchange Server version 08.00.0681.000">\n<TITLE></TITLE>\n</HEAD>\n<BODY>\n<!-- Converted from text/rtf format -->\n\nWe operate every Saturday Year Round (Excluding Stats). 11am-2pm<br />Locally grown veggies and fruits, delicious baked goods and a large variety of quality artisan products offered in many categories.<br /><br />Located inside the Bonnyville & District Centennial Centre<br /><br />Jams, Jellies, preserves, jewelry, rocks, crystals, essential oils, Bath and body products, pies, bread, squares, cookies, muffins, home decorations, outside decorations, net and crochet goods, clean eating, eggs, beef, chicken and more!\n\n</BODY>\n</HTML>

LOCATION:4313 50 Ave, Bonnyville, AB T9N 0B4, Canada
END:VEVENT

END:VCALENDAR
